BEGIN:VCALENDAR
VERSION:2.0
PRODID:-//raisethewind.it - ECPv4.6.26//NONSGML v1.0//EN
CALSCALE:GREGORIAN
METHOD:PUBLISH
X-WR-CALNAME:raisethewind.it
X-ORIGINAL-URL:https://www.raisethewind.it
X-WR-CALDESC:Eventi per raisethewind.it
BEGIN:VEVENT
DTSTART;TZID=Europe/Rome:20260217T150000
DTEND;TZID=Europe/Rome:20260317T190000
DTSTAMP:20260419T130957
CREATED:20260115T065549Z
LAST-MODIFIED:20260115T070013Z
UID:2414-1771340400-1773774000@www.raisethewind.it
SUMMARY:Febbraio-marzo 2026. Corso in fundraising\, CSV Basilicata
DESCRIPTION:Dal 17 febbraio al 17 marzo 2026\, il Centro Servizi al Volontariato della Basilicata organizza un nuovo corso intensivo in fundraising: teoria ma anche molta pratica con esercitazioni singole e di gruppo. \n
URL:https://www.raisethewind.it/evento/febbraio-marzo-2026-corso-in-fundraising-csv-basilicata/
LOCATION:Potenza\, via Giacomo Racioppi 10\, Potenza\, Italia
CATEGORIES:Eventi
ATTACH;FMTTYPE=image/jpeg:https://www.raisethewind.it/wp-content/uploads/2019/09/corso-formazione-fundraising.jpg
END:VEVENT
END:VCALENDAR